BEGIN:VCALENDAR
VERSION:2.0
PRODID:-//ANESE - ECPv6.15.20//NONSGML v1.0//EN
CALSCALE:GREGORIAN
METHOD:PUBLISH
X-ORIGINAL-URL:https://www.anese.es
X-WR-CALDESC:Eventos para ANESE
REFRESH-INTERVAL;VALUE=DURATION:PT1H
X-Robots-Tag:noindex
X-PUBLISHED-TTL:PT1H
BEGIN:VTIMEZONE
TZID:UTC
BEGIN:STANDARD
TZOFFSETFROM:+0000
TZOFFSETTO:+0000
TZNAME:UTC
DTSTART:20250101T000000
END:STANDARD
END:VTIMEZONE
BEGIN:VEVENT
DTSTART;TZID=UTC:20261020T090000
DTEND;TZID=UTC:20261021T180000
DTSTAMP:20260420T054800
CREATED:20260310T122657Z
LAST-MODIFIED:20260310T123403Z
UID:10000412-1792486800-1792605600@www.anese.es
SUMMARY:3rd International ESCO Symposium - Madrid
DESCRIPTION:Este año tendrá lugar en Madrid el 3rd International ESCO Symposium organizado por la Global de ESCO Network\, y en el cual ANESE participa como entidad coorganizadora y anfitriona.\nDurante los días 20 y 21 de octubre\, se darán cita en el auditorio de la Fundación Francisco Giner de los Ríos\, Madrid (P.º del Gral. Martínez Campos\, 14\, Chamberí\, 28010 Madrid)\, destacados expertos\, legisladores\, líderes del sector y partes interesadas para acelerar la transición hacia un futuro con bajas emisiones de carbono y eficiencia energética. \nA través de una serie de presentaciones\, paneles y debates\, el simposio abordará las últimas tendencias\, marcos regulatorios\, estrategias de financiación y casos de éxito en el mercado de las ESEs. Destacará cómo las ESEs pueden servir como catalizador clave para ampliar la escala de proyectos de eficiencia energética\, impulsando las inversiones tanto del sector público como del privado. \nEn breve publicaremos el programa y el enlace para la reserva de entradas. \n\nThis year\, Madrid will be the stage to the 3rd International ESCO Symposium\, organized by the Global de ESCO Network\, with ANESE participating as co-organizer and host.\nFrom October 20th to 21st\, leading experts\, policymakers\, industry leaders\, and stakeholders will gather at the auditorium of the Fundación Francisco Giner de los Ríos\, Madrid (P.º del Gral. Martínez Campos\, 14\, Chamberí\, 28010 Madrid)\, to accelerate the transition to a low-carbon and energy-efficient future. \nThrough a series of presentations\, panels\, and discussions\, the symposium will address the latest trends\, regulatory frameworks\, financing strategies\, and success stories in the Energy Service Companies (ESCOs) market. It will highlight how ESCOs can serve as a key catalyst for scaling up energy efficiency projects\, boosting investment from both the public and private sectors. \nThe program and ticket registration link will be published shortly.
URL:https://www.anese.es/eventos/3rd-international-esco-symposium-madrid/
LOCATION:Fundación Francisco Giner de los Ríos\, P.º del Gral. Martínez Campos\, 14\, Chamberí\, Madrid\, Madrid\, 28010\, Spain
CATEGORIES:simposio
ATTACH;FMTTYPE=image/png:https://www.anese.es/wp-content/uploads/2026/03/Logo-save-the-date.png
END:VEVENT
END:VCALENDAR