BEGIN:VCALENDAR
VERSION:2.0
PRODID:-//ANESE - ECPv6.15.20//NONSGML v1.0//EN
CALSCALE:GREGORIAN
METHOD:PUBLISH
X-ORIGINAL-URL:https://www.anese.es
X-WR-CALDESC:Eventos para ANESE
REFRESH-INTERVAL;VALUE=DURATION:PT1H
X-Robots-Tag:noindex
X-PUBLISHED-TTL:PT1H
BEGIN:VTIMEZONE
TZID:UTC
BEGIN:STANDARD
TZOFFSETFROM:+0000
TZOFFSETTO:+0000
TZNAME:UTC
DTSTART:20250101T000000
END:STANDARD
END:VTIMEZONE
BEGIN:VEVENT
DTSTART;VALUE=DATE:20260422
DTEND;VALUE=DATE:20260425
DTSTAMP:20260420T003525
CREATED:20260407T162029Z
LAST-MODIFIED:20260407T162433Z
UID:10000414-1776816000-1777075199@www.anese.es
SUMMARY:Expoenergea 2026
DESCRIPTION:Expoenergea 2026 abre sus puertas tanto al visitante profesional como a la ciudadanía interesada en el futuro de la energía\, ofreciendo un espacio donde descubrir soluciones innovadoras\, conocer a los principales actores del sector y participar en actividades de alto valor divulgativo y técnico. \nDurante el evento\, podrás explorar una amplia zona expositiva con empresas de referencia\, asistir a jornadas técnicas especializadas\, disfrutar del área gastronómica y acceder a un entorno pensado para aprender\, conectar y vivir la energía desde una perspectiva práctica y cercana. \nRegístrate y participa en Expoenergea 2026 \nExpoenergea es una cita imprescindible para quienes buscan inspiración\, conocimiento\, contactos o soluciones reales en materia energética. \nTanto si vienes como profesional como si visitas el evento a título personal\, encontrarás oportunidades únicas para informarte\, descubrir y conectar. \nEsta edición se celebra del 22 al 24 de abril de 2026\, en Badajoz\, la capital del Suroeste ibérico\, centro logístico y neurálgico de Extremadura y Alentejo portugués. IFEBA\, referente ferial de la región\, es nuevamente la sede elegida de la VIII Edición de Expoenergea. \nLINK REGISTRO: https://www.expoenergea.es/inscribete/
URL:https://www.anese.es/eventos/expoenergea-2026/
LOCATION:IFEBA\, Av. de Elvas\, s/n\, Badajoz\, 06006
CATEGORIES:Feria
ATTACH;FMTTYPE=image/png:https://www.anese.es/wp-content/uploads/2026/04/Expoenergea-2026.png
END:VEVENT
END:VCALENDAR